BEGIN:VCALENDAR
VERSION:2.0
PRODID:-//SWEET DEVIATION - ECPv6.15.20//NONSGML v1.0//EN
CALSCALE:GREGORIAN
METHOD:PUBLISH
X-ORIGINAL-URL:https://www.sweetdeviation.com
X-WR-CALDESC:Events for SWEET DEVIATION
REFRESH-INTERVAL;VALUE=DURATION:PT1H
X-Robots-Tag:noindex
X-PUBLISHED-TTL:PT1H
BEGIN:VTIMEZONE
TZID:America/Chicago
BEGIN:DAYLIGHT
TZOFFSETFROM:-0600
TZOFFSETTO:-0500
TZNAME:CDT
DTSTART:20180311T080000
END:DAYLIGHT
BEGIN:STANDARD
TZOFFSETFROM:-0500
TZOFFSETTO:-0600
TZNAME:CST
DTSTART:20181104T070000
END:STANDARD
BEGIN:DAYLIGHT
TZOFFSETFROM:-0600
TZOFFSETTO:-0500
TZNAME:CDT
DTSTART:20190310T080000
END:DAYLIGHT
BEGIN:STANDARD
TZOFFSETFROM:-0500
TZOFFSETTO:-0600
TZNAME:CST
DTSTART:20191103T070000
END:STANDARD
BEGIN:DAYLIGHT
TZOFFSETFROM:-0600
TZOFFSETTO:-0500
TZNAME:CDT
DTSTART:20200308T080000
END:DAYLIGHT
BEGIN:STANDARD
TZOFFSETFROM:-0500
TZOFFSETTO:-0600
TZNAME:CST
DTSTART:20201101T070000
END:STANDARD
END:VTIMEZONE
BEGIN:VEVENT
DTSTART;TZID=America/Chicago:20191116T180000
DTEND;TZID=America/Chicago:20191116T223000
DTSTAMP:20260423T161023
CREATED:20191031T160536Z
LAST-MODIFIED:20191106T021721Z
UID:4594-1573927200-1573943400@www.sweetdeviation.com
SUMMARY:Campfire and Karaoke with Sweet Deviation
DESCRIPTION:Campfire and Karaoke\nJoin us for campfire and karaoke after our trading day event on November 16\, 2019.  We will be singing under the stars at our Plantersville Farm Store. \nOutside drinks are welcome.  Food and softdrinks by Pig Mallard’s BBQ will be available for purchase. \nSpace is limited.  Get your tickets here. \nIf you have never joined us for our Karaoke events\, you might enjoy heading over to our Facebook page. \nHave questions?  Feel free to give us a call 281-203-1926. \nWant to learn more about us?  Go here \nhttps://www.sweetdeviation.com/wp-content/uploads/2019/10/Ripl_Video-aef4c270-3cf5-41c9-995a-f863b2b422cc.mp4
URL:https://www.sweetdeviation.com/event/campfire-karaoke-sweet-deviation
LOCATION:LMTC\, 15462 Hiway 105\, Plantersville\, 77363\, United States
END:VEVENT
BEGIN:VEVENT
DTSTART;VALUE=DATE:20191005
DTEND;VALUE=DATE:20191006
DTSTAMP:20260423T161023
CREATED:20190904T214505Z
LAST-MODIFIED:20190905T020624Z
UID:4383-1570233600-1570319999@www.sweetdeviation.com
SUMMARY:No Sweat Sweater Class
DESCRIPTION:Raglan Sweater Class\nInstruction Only-\nSupplies not included\n\nTell me more!
URL:https://www.sweetdeviation.com/event/no-sweat-sweater-class
CATEGORIES:workshop
ATTACH;FMTTYPE=image/jpeg:https://www.sweetdeviation.com/wp-content/uploads/2019/09/no-sweat-4-300x300.jpg
END:VEVENT
BEGIN:VEVENT
DTSTART;TZID=America/Chicago:20190928T100000
DTEND;TZID=America/Chicago:20190928T170000
DTSTAMP:20260423T161023
CREATED:20190903T184958Z
LAST-MODIFIED:20190904T184454Z
UID:4267-1569664800-1569690000@www.sweetdeviation.com
SUMMARY:National Alpaca Farm Day
DESCRIPTION:Sweet Deviation Fiber Farm celebrates National Alpaca Farm Day \nwhen: September 28\, 2019 \nTime: 10-5 Pm \nWhere: 15462 Hwy 105 E\, Plantersville\, Texas \nJoin us for this unique opportunity to explore the many aspects of alpaca fiber processing and uses. \nMeet these inquisitive animals in person and experience the luxurious alpaca products for yourself. \nVisitors can view live demonstrations including\, washing\, carding\, spinning and weaving the fiber to make functional\, stylish garments. \n  \n\nExperience alpacas up-close\nFeel the alpaca fleece\nTour the farm\nView live demonstrations\nLearn about raising and breeding alpacas\nShop for alpaca products\nEnjoy a fun-filled day for the entire family!\nMeet the fleetTexas Alpacas andNigora Goats
URL:https://www.sweetdeviation.com/event/national-alpaca-farm-day
ATTACH;FMTTYPE=image/jpeg:https://www.sweetdeviation.com/wp-content/uploads/2018/02/DSC_0153.jpg
END:VEVENT
BEGIN:VEVENT
DTSTART;TZID=America/Chicago:20190918T183000
DTEND;TZID=America/Chicago:20190918T210000
DTSTAMP:20260423T161023
CREATED:20190903T230022Z
LAST-MODIFIED:20190904T184949Z
UID:3007-1568831400-1568840400@www.sweetdeviation.com
SUMMARY:Needle Felting
DESCRIPTION:
URL:https://www.sweetdeviation.com/event/needle-felting
LOCATION:LMTC\, 15462 Hiway 105\, Plantersville\, 77363\, United States
CATEGORIES:workshop
ATTACH;FMTTYPE=image/jpeg:https://www.sweetdeviation.com/wp-content/uploads/2018/03/needle-felted-critters-72-dpi.jpg
END:VEVENT
BEGIN:VEVENT
DTSTART;TZID=America/Chicago:20190917T180000
DTEND;TZID=America/Chicago:20190917T210000
DTSTAMP:20260423T161023
CREATED:20180226T200349Z
LAST-MODIFIED:20190904T071247Z
UID:3020-1568743200-1568754000@www.sweetdeviation.com
SUMMARY:Sock Knitting Class
DESCRIPTION:Learn to knit a pair of socks using a proven method for perfect fit every time.  There is no pattern to follow\, instead I show you a few simple tricks to get the perfect socks quickly and easily. \nYou can join us at the shop where we have hands on teaching or get your online access to learn at your own pace. \nEither way\, the class is sure to be an enjoyable step in the direction of sock knitting success! \nGO HERE  to add to cart.
URL:https://www.sweetdeviation.com/event/sock-class-2
LOCATION:LMTC\, 15462 Hiway 105\, Plantersville\, 77363\, United States
ATTACH;FMTTYPE=image/jpeg:https://www.sweetdeviation.com/wp-content/uploads/2017/06/Socks-on-Spinning-72dpi.jpg
END:VEVENT
BEGIN:VEVENT
DTSTART;TZID=America/Chicago:20190320T120000
DTEND;TZID=America/Chicago:20190326T170000
DTSTAMP:20260423T161023
CREATED:20190125T200821Z
LAST-MODIFIED:20190126T022137Z
UID:3022-1553083200-1553619600@www.sweetdeviation.com
SUMMARY:Beginner Ceramics
DESCRIPTION: 
URL:https://www.sweetdeviation.com/event/beginner-ceramics
LOCATION:LMTC\, 15462 Hiway 105\, Plantersville\, 77363\, United States
ATTACH;FMTTYPE=image/jpeg:https://www.sweetdeviation.com/wp-content/uploads/2017/06/LoveKnittingNecklace-72dpi.jpg
END:VEVENT
END:VCALENDAR